BEGIN:VCALENDAR
VERSION:2.0
PRODID:-//wp-events-plugin.com//7.2.3.1//EN
BEGIN:VEVENT
UID:81@parlay6brewing.com
DTSTART;TZID=America/Los_Angeles:20251116T173000
DTEND;TZID=America/Los_Angeles:20251116T220000
DTSTAMP:20251107T082257Z
URL:https://parlay6brewing.com/events-no-tickets/beer-pairings-dinner/
SUMMARY:Beer Pairings Dinner
DESCRIPTION:Private tasting of 8+ brews with the Parlay 6 Brew Crew\, curat
 ed chef's tasting menu\, hosted happy hour\, giveaways + exclusive pre-rel
 eases!
ATTACH;FMTTYPE=image/jpeg:https://parlay6brewing.com/wp-content/uploads/20
 25/11/beerpairings.webp
LOCATION:The Par\, 1041 S Virginia St\, Reno\, NV\, 89502\, United States
X-APPLE-STRUCTURED-LOCATION;VALUE=URI;X-ADDRESS=1041 S Virginia St\, Reno\,
  NV\, 89502\, United States;X-APPLE-RADIUS=100;X-TITLE=The Par:geo:0,0
END:VEVENT
BEGIN:VTIMEZONE
TZID:America/Los_Angeles
X-LIC-LOCATION:America/Los_Angeles
BEGIN:STANDARD
DTSTART:20251102T010000
TZOFFSETFROM:-0700
TZOFFSETTO:-0800
TZNAME:PST
END:STANDARD
END:VTIMEZONE
END:VCALENDAR